BEGIN:VCALENDAR
VERSION:2.0
PRODID:-//Croatian Chamber of Commerce - ECPv6.10.1.1//NONSGML v1.0//EN
CALSCALE:GREGORIAN
METHOD:PUBLISH
X-WR-CALNAME:Croatian Chamber of Commerce
X-ORIGINAL-URL:https://croat.ca
X-WR-CALDESC:Events for Croatian Chamber of Commerce
REFRESH-INTERVAL;VALUE=DURATION:PT1H
X-Robots-Tag:noindex
X-PUBLISHED-TTL:PT1H
BEGIN:VTIMEZONE
TZID:America/Toronto
BEGIN:DAYLIGHT
TZOFFSETFROM:-0500
TZOFFSETTO:-0400
TZNAME:EDT
DTSTART:20250309T070000
END:DAYLIGHT
BEGIN:STANDARD
TZOFFSETFROM:-0400
TZOFFSETTO:-0500
TZNAME:EST
DTSTART:20251102T060000
END:STANDARD
BEGIN:DAYLIGHT
TZOFFSETFROM:-0500
TZOFFSETTO:-0400
TZNAME:EDT
DTSTART:20260308T070000
END:DAYLIGHT
BEGIN:STANDARD
TZOFFSETFROM:-0400
TZOFFSETTO:-0500
TZNAME:EST
DTSTART:20261101T060000
END:STANDARD
END:VTIMEZONE
BEGIN:VEVENT
DTSTART;TZID=America/Toronto:20251128T193000
DTEND;TZID=America/Toronto:20251128T230000
DTSTAMP:20260419T190557
CREATED:20251113T173151Z
LAST-MODIFIED:20251113T173251Z
UID:19451-1764358200-1764370800@croat.ca
SUMMARY:Detroit\, Michigan – Croatian Heritage Night
DESCRIPTION:Link to Purchase Tickets – CROATIAN HERITAGE NIGHT
URL:https://croat.ca/event/etroit-michigan-croatian-heritage-night/
CATEGORIES:Other
END:VEVENT
BEGIN:VEVENT
DTSTART;TZID=America/Toronto:20251214T160000
DTEND;TZID=America/Toronto:20251214T190000
DTSTAMP:20260419T190557
CREATED:20251127T162210Z
LAST-MODIFIED:20251127T162210Z
UID:19505-1765728000-1765738800@croat.ca
SUMMARY:Canadian Croatian Choral Society Christmas Concert
DESCRIPTION:Join in to celebrate the festive season! \nOn Sunday December 14th 2025\, the Canadian Croatian Choral Society presents Božićna Radost – The Joy of Christmas\, inspired by the spirit of togetherness and the joy this time of year brings. \nEnjoy an evening of beautiful music that captures the warmth and magic of Christmas in beautiful St John’s United Church in downtown Oakville. \nConcert begins at 4pm\, Reception with refreshments to follow. \nParking is limited at the church – street parking is free on Sundays in Oakville. \nTickets: \n\n\n$25 Adults\n$15 Children (14 & under) \nVisit: www.canadiancroatianchoralsociety.com\nCall: Branko 416-407- 7777\nE transfer: finance@cccschoir.com \nLocation:\nSt John’s United Church\n292 Randall Street\nOakville\, ON
URL:https://croat.ca/event/canadian-croatian-choral-society-christmas-concert/
CATEGORIES:Other
ORGANIZER;CN="The Canadian Croatian Choral Society":MAILTO:contact@cccschoir.com
END:VEVENT
BEGIN:VEVENT
DTSTART;TZID=America/Toronto:20260207T180000
DTEND;TZID=America/Toronto:20260207T210000
DTSTAMP:20260419T190557
CREATED:20260115T010451Z
LAST-MODIFIED:20260115T010451Z
UID:19633-1770487200-1770498000@croat.ca
SUMMARY:AMCA Toronto Presents Croatia in 30 Stories – with Božo Skoko
DESCRIPTION:AMCA Toronto invites you to an evening with Dr. Božo Skoko – Vice-Rector at Algebra Bernays University in Zagreb and one of Croatia’s leading strategic communication experts (and long-time lecturer at the University of Zagreb) – as he presents Croatia in 30 Stories. \nThrough short\, engaging stories\, Dr. Skoko offers a fresh\, insight-rich look at Croatian identity and global perception – beyond clichés – touching on mentality\, customs\, notable Croats\, and surprising facts that shape how Croatia is understood abroad. \nThe program includes a presentation followed by discussion and Q&A\, delivered in Croatian. \nThe book will be available for purchase on site. \nDate: February 7\, 2026\nTime: 6:00 pm to 9:00 pm\nLocation: Holy Trinity Croatian Catholic Parish\, 2110 Trafalgar Road\, Oakville\, ON \nKindly RSVP by emailing amca@amcatoronto.com\nand zvonimir.poljak@gmail.com
URL:https://croat.ca/event/amca-toronto-presents-croatia-in-30-stories-with-bozo-skoko/
LOCATION:Holy Trinity Catholic Church\, 2110 Trafalgar Road\, Oakville\, Ontario
CATEGORIES:Other
END:VEVENT
BEGIN:VEVENT
DTSTART;TZID=America/Toronto:20260430T190000
DTEND;TZID=America/Toronto:20260430T220000
DTSTAMP:20260419T190557
CREATED:20260414T172113Z
LAST-MODIFIED:20260414T172148Z
UID:19912-1777575600-1777586400@croat.ca
SUMMARY:ELIS LOVRIĆ -Live at Maja Prentice Theatre
DESCRIPTION:ELIS LOVRIĆ\nLive at Maja Prentice Theatre\nApril 30\, 2026 at 7:00 PM \nAcclaimed Croatian actress and singer-songwriter Elis Lovrić is an artist of rare and distinctive expression\, whose work unites music\, poetry\, theatre\, and cultural heritage into a deeply moving performance. \nFor more than two decades\, she has created an original body of work rooted in the Labin dialect\, transforming local tradition into a universal artistic language. Writing and singing in more than 15 languages and dialects\, Elis builds bridges between cultures\, bringing her voice to audiences across Europe\, Japan\, and Brazil. \nHer celebrated original projects include Kanat od mora\, Merika\, Two Seas\, and A Story of Music and Stone. Elis Lovrić is also the first Croatian singer-songwriter to perform at the European Parliament in Brussels and Strasbourg\, and the recipient of numerous national and international recognitions\, including the EWILA – European Women’s International Leadership Award 2025. \nThe performance will be accompanied by Danijela Kos\, PhD candidate cellist at McGill University in Montreal. \n\nThis event is organized by AMCA-Toronto.\n\nPlease reserve your free tickets here: \nhttps://www.eventbrite.ca/e/elis-lovric-live-at-maja-prentice-theatre-tickets-1986805434538?aff=oddtdtcreator
URL:https://croat.ca/event/elis-lovric-live-at-maja-prentice-theatre/
CATEGORIES:Other
END:VEVENT
BEGIN:VEVENT
DTSTART;TZID=America/Toronto:20260524T170000
DTEND;TZID=America/Toronto:20260524T200000
DTSTAMP:20260419T190557
CREATED:20260417T024652Z
LAST-MODIFIED:20260417T024652Z
UID:19928-1779642000-1779652800@croat.ca
SUMMARY:Canadian Croatian Choral Society Spring Concert
DESCRIPTION:Join the Canadian Croatian Choral Society (CCCS) for an evening of music at their annual Spring Concert\, S One Strane Svijeta – Where Voices Travel\, on Sunday\, May 24th\, 2026 at 5:00pm at St. John’s United Church\, 262 Randall Street in downtown Oakville. \nExperience a vibrant program celebrating music from around the world alongside beloved classics. The evening will also feature past CCCS Merit Award recipients and the introduction of this year’s recipient. \nA reception with light refreshments will follow the concert. \nTickets: $25 adults\, $15 children (14 & under). \nPurchase online at Canadian Croatian Choral Society\nby e-transfer to finance@cccschoir.com or contact\nBranko at 416.407.4444
URL:https://croat.ca/event/canadian-croatian-choral-society-spring-concert-2/
CATEGORIES:Other
END:VEVENT
END:VCALENDAR