BEGIN:VCALENDAR
VERSION:2.0
PRODID:-//Croatian Chamber of Commerce - ECPv6.10.1.1//NONSGML v1.0//EN
CALSCALE:GREGORIAN
METHOD:PUBLISH
X-WR-CALNAME:Croatian Chamber of Commerce
X-ORIGINAL-URL:https://croat.ca
X-WR-CALDESC:Events for Croatian Chamber of Commerce
REFRESH-INTERVAL;VALUE=DURATION:PT1H
X-Robots-Tag:noindex
X-PUBLISHED-TTL:PT1H
BEGIN:VTIMEZONE
TZID:America/Toronto
BEGIN:DAYLIGHT
TZOFFSETFROM:-0500
TZOFFSETTO:-0400
TZNAME:EDT
DTSTART:20240310T070000
END:DAYLIGHT
BEGIN:STANDARD
TZOFFSETFROM:-0400
TZOFFSETTO:-0500
TZNAME:EST
DTSTART:20241103T060000
END:STANDARD
BEGIN:DAYLIGHT
TZOFFSETFROM:-0500
TZOFFSETTO:-0400
TZNAME:EDT
DTSTART:20250309T070000
END:DAYLIGHT
BEGIN:STANDARD
TZOFFSETFROM:-0400
TZOFFSETTO:-0500
TZNAME:EST
DTSTART:20251102T060000
END:STANDARD
BEGIN:DAYLIGHT
TZOFFSETFROM:-0500
TZOFFSETTO:-0400
TZNAME:EDT
DTSTART:20260308T070000
END:DAYLIGHT
BEGIN:STANDARD
TZOFFSETFROM:-0400
TZOFFSETTO:-0500
TZNAME:EST
DTSTART:20261101T060000
END:STANDARD
END:VTIMEZONE
BEGIN:VEVENT
DTSTART;TZID=America/Toronto:20240504T130000
DTEND;TZID=America/Toronto:20240504T230000
DTSTAMP:20260419T225747
CREATED:20240502T013446Z
LAST-MODIFIED:20240502T013446Z
UID:18355-1714827600-1714863600@croat.ca
SUMMARY:2024 Niagara Folk Arts Festival & Croatian Open House
DESCRIPTION:
URL:https://croat.ca/event/2024-niagara-folk-arts-festival-croatian-open-house/
LOCATION:Croatian National Centre Niagara Peninsula (Niagara-on-the-Lake)\, 1416 Line 3 Road\, Niagara-on-the-Lake\, Ontario\, L0S 1J0\, Canada
CATEGORIES:Other
ORGANIZER;CN="Croatian National Centre of Niagara":MAILTO:niagaracroatia@gmail.com
END:VEVENT
BEGIN:VEVENT
DTSTART;TZID=America/Toronto:20240505T170000
DTEND;TZID=America/Toronto:20240505T190000
DTSTAMP:20260419T225747
CREATED:20240401T202146Z
LAST-MODIFIED:20240414T165021Z
UID:18281-1714928400-1714935600@croat.ca
SUMMARY:Canadian Croatian Choral Society Spring Concert
DESCRIPTION:Welcome to Proljetne Melodije / Blooming Melodies! Join in for a wonderful evening of music at St Johns United Church. Get ready to be serenaded by talented musicians in a beautiful setting. This event is a perfect opportunity to relax\, unwind\, and enjoy some fantastic tunes. Don’t miss out on this special musical experience! \nFurther details about the Canadian Croatian Choral Society and to purchase tickets can be found here – https://canadiancroatianchoralsociety.com/news-events/
URL:https://croat.ca/event/canadian-croatian-choral-society-spring-concert/
CATEGORIES:Other
ORGANIZER;CN="The Canadian Croatian Choral Society":MAILTO:contact@cccschoir.com
END:VEVENT
BEGIN:VEVENT
DTSTART;TZID=America/Toronto:20240608T080000
DTEND;TZID=America/Toronto:20240608T170000
DTSTAMP:20260419T225747
CREATED:20240313T203653Z
LAST-MODIFIED:20240313T203732Z
UID:18246-1717833600-1717866000@croat.ca
SUMMARY:KW Croatian Club Golf Tournament
DESCRIPTION:Saturday June 8\, 2024 \nPlease click Forms link below to register online: \nhttps://forms.office.com/e/gnbET2C649 \nDownloadable PDF: \n124198-2024 Croatian Club Golf Registration Form 8.5 x 11
URL:https://croat.ca/event/kw-croatian-club-golf-tournament-2/
LOCATION:Brookfield Golf Club\, 3700 Beaverdale Road\, Cambridge\, Ontario\, N3H 4R7\, Canada
CATEGORIES:Other
END:VEVENT
BEGIN:VEVENT
DTSTART;VALUE=DATE:20240824
DTEND;VALUE=DATE:20240825
DTSTAMP:20260419T225747
CREATED:20240821T134748Z
LAST-MODIFIED:20240821T134748Z
UID:18479-1724457600-1724543999@croat.ca
SUMMARY:Dani Piva Picnic and Dance
DESCRIPTION:
URL:https://croat.ca/event/dani-piva-picnic-and-dance/
CATEGORIES:Other
END:VEVENT
BEGIN:VEVENT
DTSTART;TZID=America/Toronto:20240928T193000
DTEND;TZID=America/Toronto:20240928T233000
DTSTAMP:20260419T225747
CREATED:20240817T114531Z
LAST-MODIFIED:20240817T114531Z
UID:18470-1727551800-1727566200@croat.ca
SUMMARY:OktoberFesta with Zrinski Frankopan
DESCRIPTION:
URL:https://croat.ca/event/oktoberfesta-with-zrinski-frankopan/
LOCATION:Croatian Martyrs Parish Hall\, 4605 Mississauga Road\, Mississauga\, Ontario\, L5M 7C6\, Canada
CATEGORIES:Other
END:VEVENT
BEGIN:VEVENT
DTSTART;TZID=America/Toronto:20241003T180000
DTEND;TZID=America/Toronto:20241006T180000
DTSTAMP:20260419T225747
CREATED:20240711T144605Z
LAST-MODIFIED:20240711T144605Z
UID:18419-1727978400-1728237600@croat.ca
SUMMARY:8th Annual ACAP Conference Las Vegas
DESCRIPTION:We are happy to announce the 8th Annual ACAP Conference\, organized by the Association of Croatian American Professionals\, happening October 3-6 in Las Vegas! \nThis year’s theme: “Croatians: Globally Connected\, Locally Shaped” will showcase multi-disciplinary Croatian expertise and global business practices\, including insights into doing business in the U.S. \nThis is your chance to network with powerhouse Croatian American professionals\, create new opportunities\, and absorb invaluable success stories. \nNet proceeds from the Conference support the ACAP Foundation’s array of educational\, early career\, and community programs. \nGet your ticket today! \n 
URL:https://croat.ca/event/8th-annual-acap-conference-las-vegas/
LOCATION:Caesars Palace\, 3570 Las Vegas Blvd\, Las Vegas\, Nevada\, 89109
CATEGORIES:Other
END:VEVENT
BEGIN:VEVENT
DTSTART;TZID=America/Toronto:20241004T190000
DTEND;TZID=America/Toronto:20241004T220000
DTSTAMP:20260419T225747
CREATED:20240927T193827Z
LAST-MODIFIED:20240927T193827Z
UID:18521-1728068400-1728079200@croat.ca
SUMMARY:Purse Bingo
DESCRIPTION:Get ready for a night of fun\, laughter\, and amazing giveaways! \nMake your purse bingo night extra special and reserve a table for you and your friends! (10 people per table) \n\nBuy your tickets here:\n\nhttps://www.canadahelps.org/…/canad…/events/purse-bingo/
URL:https://croat.ca/event/purse-bingo/
CATEGORIES:Other
END:VEVENT
BEGIN:VEVENT
DTSTART;TZID=America/Toronto:20241120T130000
DTEND;TZID=America/Toronto:20241201T170000
DTSTAMP:20260419T225747
CREATED:20240927T164833Z
LAST-MODIFIED:20240927T164833Z
UID:18512-1732107600-1733072400@croat.ca
SUMMARY:Art Exhibition by Tatjana Hutinec
DESCRIPTION:Tatjana Hutinec presents:  As Above So Below – Solo Exhibition \nSponsorship opportunities are available to enhance your brand and feature your logo prominently as the Art Buying Partner or the Exhibition Sponsor. \nVisit www.tatjanahutinec.com and contact artist@tatjanahutinec.com today to learn how to be a part of this exciting event.
URL:https://croat.ca/event/art-exhibition-by-tatjana-hutinec/
CATEGORIES:Other
END:VEVENT
BEGIN:VEVENT
DTSTART;TZID=America/Toronto:20241123T183000
DTEND;TZID=America/Toronto:20241123T233000
DTSTAMP:20260419T225747
CREATED:20241119T155020Z
LAST-MODIFIED:20241119T155020Z
UID:18632-1732386600-1732404600@croat.ca
SUMMARY:Klapa More from Split in Ottawa
DESCRIPTION:Doors Open at 6:30PM. \nSt Leopold Mandic Croatian Parish Hall \nAn authentic Dalmatian dinner will be served at 7:00PM followed a concert by More and then an evening of dancing with musical entertainment by More. \nTickets are $60 for adults\, $40 for students\, and children under 6 are free. \nYou can reserve tickets by calling the church rectory at 613-722-7135 or through Vinko Marinkovic at 613-822-3321
URL:https://croat.ca/event/klapa-more-from-split-in-ottawa/
CATEGORIES:Other
END:VEVENT
BEGIN:VEVENT
DTSTART;TZID=America/Toronto:20241124T120000
DTEND;TZID=America/Toronto:20241124T170000
DTSTAMP:20260419T225747
CREATED:20241018T222315Z
LAST-MODIFIED:20241018T222429Z
UID:18532-1732449600-1732467600@croat.ca
SUMMARY:Christmas Market Fundraiser hosted by Kralj Zvonimir
DESCRIPTION:
URL:https://croat.ca/event/christmas-market-fundraiser-hosted-by-kralj-zvonimir/
LOCATION:Queen of Peace – Croatian Franciscan Centre\, 9118 Winston Churchill Blvd\, Norval\, Ontario\, L0P 1K0\, Canada
CATEGORIES:Other
END:VEVENT
BEGIN:VEVENT
DTSTART;TZID=America/Toronto:20241231T183000
DTEND;TZID=America/Toronto:20241231T233000
DTSTAMP:20260419T225747
CREATED:20241209T155427Z
LAST-MODIFIED:20241209T155427Z
UID:18718-1735669800-1735687800@croat.ca
SUMMARY:New Year Eve Party with VIS Melodije in Ottawa
DESCRIPTION:New Year’s Eve Party with live music\, dinner and dancing.\nTicket price: adults $90\, students $60\, children under 6 for free. Ticket price includes a dinner and a  midnight buffet. \nLive music will be performed by local band\, T. S. Melodije. \nTicket reservations: Parish office (613-722-7135) and Vinko Marinković (613-822-3321).
URL:https://croat.ca/event/new-year-eve-party-with-vis-melodije-in-ottawa/
CATEGORIES:Other
END:VEVENT
BEGIN:VEVENT
DTSTART;TZID=America/Toronto:20250228T180000
DTEND;TZID=America/Toronto:20250228T220000
DTSTAMP:20260419T225747
CREATED:20250130T180921Z
LAST-MODIFIED:20250130T180921Z
UID:18822-1740765600-1740780000@croat.ca
SUMMARY:Mardi Gras Purse Bingo
DESCRIPTION:Join in for our Mardi Gras Purse Bingo at Holy Trinity Parish Church Hall for an an exciting evening of fun and fabulous designer purse prizes hosted by the Canadian Croatian Choral Society! \nYour $45 entry includes 10 Bingo cards and additional books will be available for purchase. \nEnjoy a cash bar\, snacks\, light finger foods\, a 50/50 draw\, and fabulous raffle prizes while supporting a great cause – all proceeds benefit the CCCS Fund. \nBring your friends and family for a memorable night of Mardi Gras magic. Sponsorship opportunities are also available. Don’t miss this festive night! \nPurchase tickets here – https://www.canadahelps.org/en/charities/canadian-croatian-choral-society/events/purse-bingo-28feb25/
URL:https://croat.ca/event/mardi-gras-purse-bingo/
LOCATION:Holy Trinity Catholic Church\, 2110 Trafalgar Road\, Oakville\, Ontario
CATEGORIES:Other
ORGANIZER;CN="The Canadian Croatian Choral Society":MAILTO:contact@cccschoir.com
END:VEVENT
BEGIN:VEVENT
DTSTART;TZID=America/Toronto:20250607T080000
DTEND;TZID=America/Toronto:20250607T170000
DTSTAMP:20260419T225747
CREATED:20250401T152820Z
LAST-MODIFIED:20250401T152820Z
UID:19071-1749283200-1749315600@croat.ca
SUMMARY:KW Croatian Club Golf Tournament
DESCRIPTION:Saturday June 7\, 2025 \nPlease click Forms link below to register online: \n2025 KW Croatian Club Golf Team Registration \nDownloadable PDF: \n2025 Croatian Club Golf Registration Form 8.5 x 11
URL:https://croat.ca/event/kw-croatian-club-golf-tournament-3/
CATEGORIES:Other
END:VEVENT
BEGIN:VEVENT
DTSTART;VALUE=DATE:20250707
DTEND;VALUE=DATE:20250712
DTSTAMP:20260419T225747
CREATED:20250509T175201Z
LAST-MODIFIED:20250509T175201Z
UID:19173-1751846400-1752278399@croat.ca
SUMMARY:Dinamo Zagreb Player ID Combine coming to Mississauga\, Ontario this July!
DESCRIPTION:GNK Dinamo Zagreb and Astoria Sports are excited to be back for the second edition of their NextGen Series\, an elite youth soccer combine taking place from July 7th to 11th\, 2025 in Mississauga\, Ontario at the Iceland Turf Fields. \nAstoria is offering unique and exclusive opportunities for local engagement\, networking and multiple levels of activation throughout their week-long camp; the details of which can be found in the sponsorship portfolio below. \nFor further details please contact Hrvoje Pavic at info@astoriasports.ch! \n2025 Sponsorship Portfolio Astoria Sports \nastoriasports.ch/nextgen
URL:https://croat.ca/event/dinamo-zagreb-player-id-combine-coming-to-mississauga-ontario-this-july/
CATEGORIES:Other
END:VEVENT
BEGIN:VEVENT
DTSTART;TZID=America/Toronto:20251015T190000
DTEND;TZID=America/Toronto:20251015T210000
DTSTAMP:20260419T225747
CREATED:20250927T235226Z
LAST-MODIFIED:20250927T235226Z
UID:19351-1760554800-1760562000@croat.ca
SUMMARY:FREE Citizenship Workshop in the GTA
DESCRIPTION:Thinking about Croatian citizenship? \n\n\nJoin Expat in Croatia for a FREE Citizenship Workshop in the GTA this October! \n\nMississauga – Oct 15\nOakville – Oct 16\n\nRegister now (required): expatincroatia.com/citizenship-workshop-gta\n\nDon’t miss it!
URL:https://croat.ca/event/free-citizenship-workshop-in-the-gta/
LOCATION:Croatian Martyrs Parish Hall\, 4605 Mississauga Road\, Mississauga\, Ontario\, L5M 7C6\, Canada
CATEGORIES:Other
END:VEVENT
BEGIN:VEVENT
DTSTART;TZID=America/Toronto:20251016T190000
DTEND;TZID=America/Toronto:20251016T210000
DTSTAMP:20260419T225747
CREATED:20250927T235812Z
LAST-MODIFIED:20250927T235812Z
UID:19353-1760641200-1760648400@croat.ca
SUMMARY:FREE Citizenship Workshop in the GTA
DESCRIPTION:Thinking about Croatian citizenship? \n\n\nJoin Expat in Croatia for a FREE Citizenship Workshop in the GTA this October! \n\nMississauga – Oct 15\nOakville – Oct 16\n\n\nRegister now (required): expatincroatia.com/citizenship-workshop-gta\n\nDon’t miss it!
URL:https://croat.ca/event/free-citizenship-workshop-in-the-gta-2/
LOCATION:Holy Trinity Catholic Church\, 2110 Trafalgar Road\, Oakville\, Ontario
CATEGORIES:Other
END:VEVENT
BEGIN:VEVENT
DTSTART;TZID=America/Toronto:20251128T193000
DTEND;TZID=America/Toronto:20251128T230000
DTSTAMP:20260419T225747
CREATED:20251113T173151Z
LAST-MODIFIED:20251113T173251Z
UID:19451-1764358200-1764370800@croat.ca
SUMMARY:Detroit\, Michigan – Croatian Heritage Night
DESCRIPTION:Link to Purchase Tickets – CROATIAN HERITAGE NIGHT
URL:https://croat.ca/event/etroit-michigan-croatian-heritage-night/
CATEGORIES:Other
END:VEVENT
BEGIN:VEVENT
DTSTART;TZID=America/Toronto:20251214T160000
DTEND;TZID=America/Toronto:20251214T190000
DTSTAMP:20260419T225747
CREATED:20251127T162210Z
LAST-MODIFIED:20251127T162210Z
UID:19505-1765728000-1765738800@croat.ca
SUMMARY:Canadian Croatian Choral Society Christmas Concert
DESCRIPTION:Join in to celebrate the festive season! \nOn Sunday December 14th 2025\, the Canadian Croatian Choral Society presents Božićna Radost – The Joy of Christmas\, inspired by the spirit of togetherness and the joy this time of year brings. \nEnjoy an evening of beautiful music that captures the warmth and magic of Christmas in beautiful St John’s United Church in downtown Oakville. \nConcert begins at 4pm\, Reception with refreshments to follow. \nParking is limited at the church – street parking is free on Sundays in Oakville. \nTickets: \n\n\n$25 Adults\n$15 Children (14 & under) \nVisit: www.canadiancroatianchoralsociety.com\nCall: Branko 416-407- 7777\nE transfer: finance@cccschoir.com \nLocation:\nSt John’s United Church\n292 Randall Street\nOakville\, ON
URL:https://croat.ca/event/canadian-croatian-choral-society-christmas-concert/
CATEGORIES:Other
ORGANIZER;CN="The Canadian Croatian Choral Society":MAILTO:contact@cccschoir.com
END:VEVENT
BEGIN:VEVENT
DTSTART;TZID=America/Toronto:20260207T180000
DTEND;TZID=America/Toronto:20260207T210000
DTSTAMP:20260419T225747
CREATED:20260115T010451Z
LAST-MODIFIED:20260115T010451Z
UID:19633-1770487200-1770498000@croat.ca
SUMMARY:AMCA Toronto Presents Croatia in 30 Stories – with Božo Skoko
DESCRIPTION:AMCA Toronto invites you to an evening with Dr. Božo Skoko – Vice-Rector at Algebra Bernays University in Zagreb and one of Croatia’s leading strategic communication experts (and long-time lecturer at the University of Zagreb) – as he presents Croatia in 30 Stories. \nThrough short\, engaging stories\, Dr. Skoko offers a fresh\, insight-rich look at Croatian identity and global perception – beyond clichés – touching on mentality\, customs\, notable Croats\, and surprising facts that shape how Croatia is understood abroad. \nThe program includes a presentation followed by discussion and Q&A\, delivered in Croatian. \nThe book will be available for purchase on site. \nDate: February 7\, 2026\nTime: 6:00 pm to 9:00 pm\nLocation: Holy Trinity Croatian Catholic Parish\, 2110 Trafalgar Road\, Oakville\, ON \nKindly RSVP by emailing amca@amcatoronto.com\nand zvonimir.poljak@gmail.com
URL:https://croat.ca/event/amca-toronto-presents-croatia-in-30-stories-with-bozo-skoko/
LOCATION:Holy Trinity Catholic Church\, 2110 Trafalgar Road\, Oakville\, Ontario
CATEGORIES:Other
END:VEVENT
BEGIN:VEVENT
DTSTART;TZID=America/Toronto:20260430T190000
DTEND;TZID=America/Toronto:20260430T220000
DTSTAMP:20260419T225747
CREATED:20260414T172113Z
LAST-MODIFIED:20260414T172148Z
UID:19912-1777575600-1777586400@croat.ca
SUMMARY:ELIS LOVRIĆ -Live at Maja Prentice Theatre
DESCRIPTION:ELIS LOVRIĆ\nLive at Maja Prentice Theatre\nApril 30\, 2026 at 7:00 PM \nAcclaimed Croatian actress and singer-songwriter Elis Lovrić is an artist of rare and distinctive expression\, whose work unites music\, poetry\, theatre\, and cultural heritage into a deeply moving performance. \nFor more than two decades\, she has created an original body of work rooted in the Labin dialect\, transforming local tradition into a universal artistic language. Writing and singing in more than 15 languages and dialects\, Elis builds bridges between cultures\, bringing her voice to audiences across Europe\, Japan\, and Brazil. \nHer celebrated original projects include Kanat od mora\, Merika\, Two Seas\, and A Story of Music and Stone. Elis Lovrić is also the first Croatian singer-songwriter to perform at the European Parliament in Brussels and Strasbourg\, and the recipient of numerous national and international recognitions\, including the EWILA – European Women’s International Leadership Award 2025. \nThe performance will be accompanied by Danijela Kos\, PhD candidate cellist at McGill University in Montreal. \n\nThis event is organized by AMCA-Toronto.\n\nPlease reserve your free tickets here: \nhttps://www.eventbrite.ca/e/elis-lovric-live-at-maja-prentice-theatre-tickets-1986805434538?aff=oddtdtcreator
URL:https://croat.ca/event/elis-lovric-live-at-maja-prentice-theatre/
CATEGORIES:Other
END:VEVENT
BEGIN:VEVENT
DTSTART;TZID=America/Toronto:20260524T170000
DTEND;TZID=America/Toronto:20260524T200000
DTSTAMP:20260419T225747
CREATED:20260417T024652Z
LAST-MODIFIED:20260417T024652Z
UID:19928-1779642000-1779652800@croat.ca
SUMMARY:Canadian Croatian Choral Society Spring Concert
DESCRIPTION:Join the Canadian Croatian Choral Society (CCCS) for an evening of music at their annual Spring Concert\, S One Strane Svijeta – Where Voices Travel\, on Sunday\, May 24th\, 2026 at 5:00pm at St. John’s United Church\, 262 Randall Street in downtown Oakville. \nExperience a vibrant program celebrating music from around the world alongside beloved classics. The evening will also feature past CCCS Merit Award recipients and the introduction of this year’s recipient. \nA reception with light refreshments will follow the concert. \nTickets: $25 adults\, $15 children (14 & under). \nPurchase online at Canadian Croatian Choral Society\nby e-transfer to finance@cccschoir.com or contact\nBranko at 416.407.4444
URL:https://croat.ca/event/canadian-croatian-choral-society-spring-concert-2/
CATEGORIES:Other
END:VEVENT
END:VCALENDAR