BEGIN:VCALENDAR
VERSION:2.0
PRODID:-//Croatian Chamber of Commerce - ECPv6.10.1.1//NONSGML v1.0//EN
CALSCALE:GREGORIAN
METHOD:PUBLISH
X-WR-CALNAME:Croatian Chamber of Commerce
X-ORIGINAL-URL:https://croat.ca
X-WR-CALDESC:Events for Croatian Chamber of Commerce
REFRESH-INTERVAL;VALUE=DURATION:PT1H
X-Robots-Tag:noindex
X-PUBLISHED-TTL:PT1H
BEGIN:VTIMEZONE
TZID:America/Toronto
BEGIN:DAYLIGHT
TZOFFSETFROM:-0500
TZOFFSETTO:-0400
TZNAME:EDT
DTSTART:20210314T070000
END:DAYLIGHT
BEGIN:STANDARD
TZOFFSETFROM:-0400
TZOFFSETTO:-0500
TZNAME:EST
DTSTART:20211107T060000
END:STANDARD
END:VTIMEZONE
BEGIN:VEVENT
DTSTART;TZID=America/Toronto:20210224T093000
DTEND;TZID=America/Toronto:20210224T173000
DTSTAMP:20260419T192108
CREATED:20210211T174013Z
LAST-MODIFIED:20210211T190339Z
UID:15297-1614159000-1614187800@croat.ca
SUMMARY:Navacord 2021 National Construction Conference – February 24\, 2021
DESCRIPTION:As one of the top construction and surety brokerages in Canada\, Navacord has organized an inaugural virtual & interactive construction conference for all to attend. \nParticipating will be key guest speakers from PCL\, Menkes Development and National Bank of Canada\, to name a few. \nAttendance is flexible and free\, you can log in and out at any time! \nDetails regarding the schedule and key note speakers can be found here – JD_2021_NCC_CHALLENGE+CHANGE_REGISTER_NOW \nRegistration Link – https://navacord.tkeventsregistration.com/NationalConstructionConference2021 \nHeadquartered in Toronto\, Navacord’s group of companies include Broker Partners across Canada and Specialty Managing General Agents. Offering risk management and consulting solutions\, Navacord Broker Partners are committed to the success of their clients and delivering expert advice in an increasingly complex world. \nNavacord is the preferred partner for entrepreneurial insurance brokerages seeking to collaborate and grow while maintaining their unique identity and culture.
URL:https://croat.ca/event/navacord-2021-national-construction-conference-february-24-2021/
LOCATION:ONLINE EVENT
CATEGORIES:Other
END:VEVENT
END:VCALENDAR