BEGIN:VCALENDAR
VERSION:2.0
PRODID:-//Croatian Chamber of Commerce - ECPv6.10.1.1//NONSGML v1.0//EN
CALSCALE:GREGORIAN
METHOD:PUBLISH
X-ORIGINAL-URL:https://croat.ca
X-WR-CALDESC:Events for Croatian Chamber of Commerce
REFRESH-INTERVAL;VALUE=DURATION:PT1H
X-Robots-Tag:noindex
X-PUBLISHED-TTL:PT1H
BEGIN:VTIMEZONE
TZID:America/Toronto
BEGIN:DAYLIGHT
TZOFFSETFROM:-0500
TZOFFSETTO:-0400
TZNAME:EDT
DTSTART:20210314T070000
END:DAYLIGHT
BEGIN:STANDARD
TZOFFSETFROM:-0400
TZOFFSETTO:-0500
TZNAME:EST
DTSTART:20211107T060000
END:STANDARD
END:VTIMEZONE
BEGIN:VEVENT
DTSTART;TZID=America/Toronto:20210219T193000
DTEND;TZID=America/Toronto:20210219T210000
DTSTAMP:20260419T192245
CREATED:20210211T153344Z
LAST-MODIFIED:20210211T153344Z
UID:15272-1613763000-1613768400@croat.ca
SUMMARY:AMCA Toronto Online Lecture: Croatian Academy of America: Fifty years of the Journal of Croatian Studies
DESCRIPTION:AMCA Toronto invites its members and community at large to the online (via ZOOM) lecture Fifty years of the Journal of Croatian Studies by Croatian Academy of America\, including presenters John P. Kraljic\, Vinko Grubišić and Vladimir Bubrin on Friday\, February 19 at 7:30 PM. \nThe lecture will be in English. \nAdmission is free. \nFor the presenters’ short biography and abstract\, please see – CroAcademyAmerica_BioAbstract \nRegistration at lectureseries@amcatoronto.com is mandatory
URL:https://croat.ca/event/amca-toronto-online-lecture-croatian-academy-of-america-fifty-years-of-the-journal-of-croatian-studies/
LOCATION:ONLINE EVENT
CATEGORIES:Other
END:VEVENT
END:VCALENDAR