BEGIN:VCALENDAR
VERSION:2.0
PRODID:-//Croatian Chamber of Commerce - ECPv6.10.1.1//NONSGML v1.0//EN
CALSCALE:GREGORIAN
METHOD:PUBLISH
X-ORIGINAL-URL:https://croat.ca
X-WR-CALDESC:Events for Croatian Chamber of Commerce
REFRESH-INTERVAL;VALUE=DURATION:PT1H
X-Robots-Tag:noindex
X-PUBLISHED-TTL:PT1H
BEGIN:VTIMEZONE
TZID:America/Toronto
BEGIN:DAYLIGHT
TZOFFSETFROM:-0500
TZOFFSETTO:-0400
TZNAME:EDT
DTSTART:20200308T070000
END:DAYLIGHT
BEGIN:STANDARD
TZOFFSETFROM:-0400
TZOFFSETTO:-0500
TZNAME:EST
DTSTART:20201101T060000
END:STANDARD
END:VTIMEZONE
BEGIN:VEVENT
DTSTART;VALUE=DATE:20201004
DTEND;VALUE=DATE:20201005
DTSTAMP:20260420T022311
CREATED:20200911T165839Z
LAST-MODIFIED:20200911T165839Z
UID:14925-1601769600-1601855999@croat.ca
SUMMARY:KW Croatian Club Golf Tournament
DESCRIPTION:
URL:https://croat.ca/event/kw-croatian-club-golf-tournament/
LOCATION:Beaverdale Golf Club\, 1171 Kossuth Road\, Cambridge\, Ontario\, N3H 4R6\, Canada
CATEGORIES:Other
ATTACH;FMTTYPE=image/jpeg:https://croat.ca/wp-content/uploads/2020/09/2020-Croatian-Club-Golf-Registration-Form-PROOF-v.3-scaled.jpg
END:VEVENT
END:VCALENDAR