BEGIN:VCALENDAR
VERSION:2.0
PRODID:-//Croatian Chamber of Commerce - ECPv6.10.1.1//NONSGML v1.0//EN
CALSCALE:GREGORIAN
METHOD:PUBLISH
X-WR-CALNAME:Croatian Chamber of Commerce
X-ORIGINAL-URL:https://croat.ca
X-WR-CALDESC:Events for Croatian Chamber of Commerce
REFRESH-INTERVAL;VALUE=DURATION:PT1H
X-Robots-Tag:noindex
X-PUBLISHED-TTL:PT1H
BEGIN:VTIMEZONE
TZID:America/Toronto
BEGIN:DAYLIGHT
TZOFFSETFROM:-0500
TZOFFSETTO:-0400
TZNAME:EDT
DTSTART:20210314T070000
END:DAYLIGHT
BEGIN:STANDARD
TZOFFSETFROM:-0400
TZOFFSETTO:-0500
TZNAME:EST
DTSTART:20211107T060000
END:STANDARD
END:VTIMEZONE
BEGIN:VEVENT
DTSTART;TZID=America/Toronto:20210512T100000
DTEND;TZID=America/Toronto:20210512T110000
DTSTAMP:20260419T121146
CREATED:20210426T144238Z
LAST-MODIFIED:20210426T144335Z
UID:15539-1620813600-1620817200@croat.ca
SUMMARY:Webinar: Importing Food Products in Canada from the EU
DESCRIPTION:CETA provides great opportunities for European food products in the growing Canadian market. \nThis workshop will walk you through the logistics\, customs\, regulatory and documentary process and requirements for a cost-efficient and smooth entry in Canada.
URL:https://croat.ca/event/webinar-importing-food-products-in-canada-from-the-eu/
LOCATION:ONLINE EVENT
CATEGORIES:Other
ORGANIZER;CN="EUCCAN":MAILTO:info@euccan.com
END:VEVENT
BEGIN:VEVENT
DTSTART;TZID=America/Toronto:20210516T130000
DTEND;TZID=America/Toronto:20210516T140000
DTSTAMP:20260419T121146
CREATED:20210507T195235Z
LAST-MODIFIED:20210507T195544Z
UID:15664-1621170000-1621173600@croat.ca
SUMMARY:Virtual Croatian Wine and Food Pairing Event
DESCRIPTION:CROATIA UNPACKED \nDISCOVER THE NEW OLD WORLD OF CROATIAN WINE  \nJoin us at Croatia Imported!\n\n\n\n\n\n\n\n \n\n\n\n\n\n\n\nCroatia is one of the world’s oldest winemaking regions. The country is vastly diverse in its wine styles and grape varietals\, and while they may look like tongue twisters to pronounce\, grapes like Babić\, Graševina and Plavac Mali offer a taste of classic Croatian terroir in the glass! \nOn May 16th we are bringing Croatian wine to you with a virtual wine and food pairing event\, hosted by Sommelier Renée Sferrazza\, with a hand-picked selection of our wines paired with seasonal contemporary Canadian dishes by Chef David Salt of Drifters Solace.\n\n\n\n\n\n\n\n  \n\n\n\n\n\n\n\nWINE AND FOOD PAIRINGS \nKutjevo’s Premium Graševina crisp white wine paired with Piperade\, focaccia\, goats cheese mousse \nTestament Winery’s Opolo Babić rosé paired with a Salad of asparagus and peas\, with pea puree\, orange and shallot vinaigrette \nVolarević Vineyard’s Plavac Mali Gold red paired with Smoky Confit Pressed Duck leg\, pommes anna\, roasted rhubarb and oregano jus\n\n\n\n\n\n\n\n  \n\n\n\n\n\n\n\nMEET THE WINEMAKERS \nRenée will be joined by winemakers from Kutjevo\, Testament and Volarević along with Chef David himself. \nJoin us Sunday\, May 16th @ 1pm for Croatia Imported!​\n\n\n\n\n\n\n\n  \n\n\n\n\n\n\n\nEVENT TICKETS​ – Purchase by Monday\, May 10\, 2021 \nFull Experience Ticket with food and wine (available in Toronto GTA Only) \n$199 – plus tax and delivery \nWine Experience Ticket with just wine (available across Ontario) \n$129 – plus tax and delivery \nBUY TICKET\n\n\n\n\n\n\n\n 
URL:https://croat.ca/event/virtual-croatian-wine-and-food-pairing-event/
LOCATION:ONLINE EVENT
CATEGORIES:Other
ORGANIZER;CN="Croatia Unpacked":MAILTO:sasa@croatiaunpacked.com
END:VEVENT
BEGIN:VEVENT
DTSTART;TZID=America/Toronto:20210527T090000
DTEND;TZID=America/Toronto:20210527T130000
DTSTAMP:20260419T121146
CREATED:20210414T192841Z
LAST-MODIFIED:20210414T192955Z
UID:15494-1622106000-1622120400@croat.ca
SUMMARY:EU-Canada Tech Business Day
DESCRIPTION:EUCCAN\, in partnership with EEN Canada\, EU Chamber of Commerce Canada West and Canada EU Trade and Investment Association (CEUTIA)\, is pleased to invite you to their flagship event on May 27\, 2021. \n \nEU-Canada trade\, investment and partnership opportunities and challenges in the agri-tech\, clean-tech and med-tech sectors will be in focus. EUCCAN will welcome public and private officials from both Europe and Canada for panel discussions dedicated to each sector. This event will also give European and Canadian companies in the three sectors\, the chance to network. It will also provide the opportunity for European businesses to meet Canadian federal and provincial officials\, and Canadian companies to meet representatives of EU countries\, to support their market expansion. \nFurther details and registration can be found here: https://euccan.com/europe-canada-tech-business-day/
URL:https://croat.ca/event/eu-canada-tech-business-day/
LOCATION:ONLINE EVENT
CATEGORIES:Other
ORGANIZER;CN="EUCCAN":MAILTO:info@euccan.com
END:VEVENT
END:VCALENDAR