BEGIN:VCALENDAR
VERSION:2.0
PRODID:-//Croatian Chamber of Commerce - ECPv6.10.1.1//NONSGML v1.0//EN
CALSCALE:GREGORIAN
METHOD:PUBLISH
X-WR-CALNAME:Croatian Chamber of Commerce
X-ORIGINAL-URL:https://croat.ca
X-WR-CALDESC:Events for Croatian Chamber of Commerce
REFRESH-INTERVAL;VALUE=DURATION:PT1H
X-Robots-Tag:noindex
X-PUBLISHED-TTL:PT1H
BEGIN:VTIMEZONE
TZID:America/Toronto
BEGIN:DAYLIGHT
TZOFFSETFROM:-0500
TZOFFSETTO:-0400
TZNAME:EDT
DTSTART:20210314T070000
END:DAYLIGHT
BEGIN:STANDARD
TZOFFSETFROM:-0400
TZOFFSETTO:-0500
TZNAME:EST
DTSTART:20211107T060000
END:STANDARD
END:VTIMEZONE
BEGIN:VEVENT
DTSTART;TZID=America/Toronto:20210303T084500
DTEND;TZID=America/Toronto:20210303T160000
DTSTAMP:20260419T154533
CREATED:20210118T220834Z
LAST-MODIFIED:20210118T221017Z
UID:15191-1614761100-1614787200@croat.ca
SUMMARY:LandPRO 2021
DESCRIPTION:LandPRO is the premier “How-To” conference for Ontario’s land and development industry. They have put together a lineup of speakers and topics that will give you a firm footing going into 2021. \nFrom pandemic-driven topics like “The Future of Office Space”\, to evolving topics like “Shared Facilities Spotlight”\, and new pressing issues like “Tarion and HECRA – One Month In”\, they know you’ll be delighted at the variety and substance of the day. \nRegister today!
URL:https://croat.ca/event/landpro-2021/
LOCATION:ONLINE EVENT
CATEGORIES:Other
ORGANIZER;CN="Krcmar Surveyors Ltd.":MAILTO:info@landproconference.com
END:VEVENT
BEGIN:VEVENT
DTSTART;TZID=America/Toronto:20210318T120000
DTEND;TZID=America/Toronto:20210318T133000
DTSTAMP:20260419T154533
CREATED:20210313T165705Z
LAST-MODIFIED:20210313T165756Z
UID:15367-1616068800-1616074200@croat.ca
SUMMARY:WEBINAR: How to Bid for a Public Tender in Croatia
DESCRIPTION:Crodiaspora and PwC Croatia have organized a webinar about bidding for public tenders in Croatia. John Gašparac\, Country Managing Partner of PwC Croatia\, and Jelena Drndić\, Head of Public Procurement at PwC Croatia\, will show you how the process works and answer any of your questions regarding public tenders.\n\nhttps://www.facebook.com/messenger_media/?thread_id=1175807831&attachment_id=438317723923764&message_id=mid.%24cAAAAABWk3SR-U24zA14IijC-7M4R
URL:https://croat.ca/event/webinar-how-to-bid-for-a-public-tender-in-croatia/
LOCATION:ONLINE EVENT
CATEGORIES:Other
END:VEVENT
END:VCALENDAR