BEGIN:VCALENDAR
VERSION:2.0
PRODID:-//Croatian Chamber of Commerce - ECPv6.10.1.1//NONSGML v1.0//EN
CALSCALE:GREGORIAN
METHOD:PUBLISH
X-WR-CALNAME:Croatian Chamber of Commerce
X-ORIGINAL-URL:https://croat.ca
X-WR-CALDESC:Events for Croatian Chamber of Commerce
REFRESH-INTERVAL;VALUE=DURATION:PT1H
X-Robots-Tag:noindex
X-PUBLISHED-TTL:PT1H
BEGIN:VTIMEZONE
TZID:America/Toronto
BEGIN:DAYLIGHT
TZOFFSETFROM:-0500
TZOFFSETTO:-0400
TZNAME:EDT
DTSTART:20260308T070000
END:DAYLIGHT
BEGIN:STANDARD
TZOFFSETFROM:-0400
TZOFFSETTO:-0500
TZNAME:EST
DTSTART:20261101T060000
END:STANDARD
END:VTIMEZONE
BEGIN:VEVENT
DTSTART;TZID=America/Toronto:20260327T203000
DTEND;TZID=America/Toronto:20260327T230000
DTSTAMP:20260424T081553
CREATED:20260114T170805Z
LAST-MODIFIED:20260114T170916Z
UID:19588-1774643400-1774652400@croat.ca
SUMMARY:Croatian Community Night: Toronto Raptors vs. New Orleans Pelicans
DESCRIPTION:Join us for Croatian Community Night at Scotiabank Arena!\nFriday\, March 27\, 2026 @ 8:30 PM \n\n\nIn celebration of Croatian Community Night\, we have secured spots for the first 150 purchasers to view the Raptors pre-game shoot around before gates open! \n\nEVENT TICKETS INCLUDE \nExclusive Pre-Game Experience\n \nAvailable to the first 150 purchasers.  Only those purchasers within the first 150 will be contacted to confirm attendance and receive further details. \nEntrance to the pre-game experience is at 6:30 PM\, late entrance will not be accepted. \nPost-Game Event \nImmediately Following the Game!\nLower Bowl\, Sections 102 and 103 \nCOMMUNITY RATE TICKETS \nStarting at $47 / person \nTo purchase tickets please follow this link: \nPURCHASE TICKETS HERE! \nWear your checkers loud and proud! \nWe look forward to welcoming you out to Croatian Community Night at Scotiabank Arena!
URL:https://croat.ca/event/croatian-community-night-toronto-raptors-vs-new-orleans-pelicans/
LOCATION:Scotiabank Arena\, 40 Bay Street\, Toronto\, Ontario\, M5J 2X2\, Canada
CATEGORIES:CROAT
ORGANIZER;CN="Canadian-Croatian Chamber of Commerce":MAILTO:contactus@croat.ca
END:VEVENT
END:VCALENDAR