BEGIN:VCALENDAR
VERSION:2.0
PRODID:-//Croatian Chamber of Commerce - ECPv6.10.1.1//NONSGML v1.0//EN
CALSCALE:GREGORIAN
METHOD:PUBLISH
X-WR-CALNAME:Croatian Chamber of Commerce
X-ORIGINAL-URL:https://croat.ca
X-WR-CALDESC:Events for Croatian Chamber of Commerce
REFRESH-INTERVAL;VALUE=DURATION:PT1H
X-Robots-Tag:noindex
X-PUBLISHED-TTL:PT1H
BEGIN:VTIMEZONE
TZID:America/Toronto
BEGIN:DAYLIGHT
TZOFFSETFROM:-0500
TZOFFSETTO:-0400
TZNAME:EDT
DTSTART:20260308T070000
END:DAYLIGHT
BEGIN:STANDARD
TZOFFSETFROM:-0400
TZOFFSETTO:-0500
TZNAME:EST
DTSTART:20261101T060000
END:STANDARD
END:VTIMEZONE
BEGIN:VEVENT
DTSTART;TZID=America/Toronto:20260324T160000
DTEND;TZID=America/Toronto:20260324T170000
DTSTAMP:20260424T081553
CREATED:20260306T180302Z
LAST-MODIFIED:20260306T180340Z
UID:19711-1774368000-1774371600@croat.ca
SUMMARY:Croatian Women’s Alliance Webinar: Leading in the Age of AI
DESCRIPTION:Leading in the Age of AI\n\n\n\n\n\nArtificial Intelligence is no longer a future concept – it’s shaping decisions today. Organizations and individuals are already being asked to make real calls about AI\, often without clear standards for governance\, risk\, and accountability. \nThis online event will explore what AI literacy requires\, where impact is being misjudged and how AI is being approached in practice\, rather than as a collection of tools. \nWhether you are a business owner\, executive\, entrepreneur\, or professional interested in the future of AI\, this conversation will provide valuable context on how to approach AI thoughtfully\, responsibly\, and strategically. \nTuesday\, March 24\, 2026\n4:00 PM Eastern | 21:00 UTC\nOnline Event \nFeaturing distinguished speakers from Croatia\, New Zealand\, and Canada\, who are working at the forefront of AI\, innovation\, and business transformation. \nTogether\, we’ll explore: \n\nWhat AI literacy demands today\nWhere organizations are overestimating – and underestimating – AI’s impact\nBlind spots that delay advantage and increase risk\nHow to use AI as a strategic co-pilot without surrendering judgment\nWhat an effective AI approach looks like beyond experimentation\n\nRegister: https://tinyurl.com/CWAMar2026
URL:https://croat.ca/event/croatian-womens-alliance-webinar-leading-in-the-age-of-ai/
LOCATION:ONLINE EVENT
CATEGORIES:CROAT
END:VEVENT
END:VCALENDAR