BEGIN:VCALENDAR
VERSION:2.0
PRODID:-//Croatian Chamber of Commerce - ECPv6.10.1.1//NONSGML v1.0//EN
CALSCALE:GREGORIAN
METHOD:PUBLISH
X-ORIGINAL-URL:https://croat.ca
X-WR-CALDESC:Events for Croatian Chamber of Commerce
REFRESH-INTERVAL;VALUE=DURATION:PT1H
X-Robots-Tag:noindex
X-PUBLISHED-TTL:PT1H
BEGIN:VTIMEZONE
TZID:America/Toronto
BEGIN:DAYLIGHT
TZOFFSETFROM:-0500
TZOFFSETTO:-0400
TZNAME:EDT
DTSTART:20260308T070000
END:DAYLIGHT
BEGIN:STANDARD
TZOFFSETFROM:-0400
TZOFFSETTO:-0500
TZNAME:EST
DTSTART:20261101T060000
END:STANDARD
END:VTIMEZONE
BEGIN:VEVENT
DTSTART;TZID=America/Toronto:20260225T183000
DTEND;TZID=America/Toronto:20260225T210000
DTSTAMP:20260424T081542
CREATED:20260115T004130Z
LAST-MODIFIED:20260115T004214Z
UID:19621-1772044200-1772053200@croat.ca
SUMMARY:From Canada to Croatia: Study and Exchange Opportunities
DESCRIPTION:From Canada to Croatia: Study and Exchange Opportunities\nIn co-operation with the Canadian-Croatian Chamber of Commerce\, AMCA Toronto is pleased to present “From Canada to Croatia: Study and Exchange Opportunities”. \nLearn about academic and exchange opportunities between Canada and Croatia\, including higher education pathways\, international study options\, and research collaboration. Attendees will gain practical guidance on studying in Croatia and accessing European academic programs. \nBridging Canadian and Croatian Academic Pathways\nCroatia offers high-quality\, internationally recognized education\, growing research opportunities\, and strong connections to European academic networks. This event highlights how students from Canada – including those of Croatian descent – can access undergraduate\, graduate\, and doctoral programs\, as well as short- and long-term exchange opportunities. \nProgram Highlights\nThe evening will feature presentations covering: \nIntroduction to the University of J.J. Strossmayer (Osijek) \nStudy Programs & Faculties \nStudying in Croatia for Canadians of Croatian Descent \nPhD Program at the Faculty of Law \nErasmus Exchange Program \nPresented By\nThe program will be presented by Professor Dubravka Aksamovic and Professor Visnja Lachner from the Faculty of Law in Osijek\, project managers of the Croatian-Canadian Economic and Scientific Cluster\, supported by the Ministry of Demography and Immigration of the Republic of Croatia. \nEvent Details\nDate: Wednesday\, February 25\, 2026Time: 6:30 PMLocation: Dalma Catering | 1783 Mattawa Ave\, Mississauga\, ON \nRSVP Required\nTo attend\, please register in advance by emailing: amca@amcatoronto.com and zvonimir.poljak@gmail.com \nThis event reflects the Chamber’s ongoing commitment to supporting education\, youth development\, and cross-border collaboration\, while strengthening ties between Canada and Croatia for future generations.
URL:https://croat.ca/event/from-canada-to-croatia-study-and-exchange-opportunities/
CATEGORIES:CROAT
END:VEVENT
BEGIN:VEVENT
DTSTART;TZID=America/Toronto:20260226T180000
DTEND;TZID=America/Toronto:20260226T210000
DTSTAMP:20260424T081542
CREATED:20260115T004452Z
LAST-MODIFIED:20260115T004452Z
UID:19624-1772128800-1772139600@croat.ca
SUMMARY:Investing in Croatia: Expanding into the European Union
DESCRIPTION:The Canadian-Croatian Chamber of Commerce is pleased to invite business leaders\, investors\, and professionals to an exclusive in-person event focused on investing in Croatia and expanding operations within the European Union. \nWhy Croatia?\nCroatia’s EU membership\, skilled workforce\, competitive operating costs\, and improving business climate make it an attractive destination for Canadian companies seeking a European foothold. Beyond market access\, Croatia offers a stable legal framework aligned with EU standards and growing opportunities across multiple sectors. \nThis event will provide a practical overview of Croatia’s business environment and the key advantages it offers for EU-focused investment and expansion. \nWhat You Will Learn\nParticipants will gain valuable insights into: \n\nStarting or Expanding a Business in Croatia\nLegal & Structural Insights\n\nThe session is designed to help Canadian businesses understand both the strategic and structural considerations involved in entering the Croatian and broader EU markets. \nPresented By\nThe program will be presented by Professor Dubravka Aksamovic and Professor Visnja Lachner from the Faculty of Law in Osijek\, project managers of the Croatian-Canadian Economic and Scientific Cluster\, supported by the Ministry of Demography and Immigration of the Republic of Croatia. \nEvent Details\nDate: Thursday\, February 26\, 2026Time: 6:00 PMLocation: MNP LLP | 50 Burnhamthorpe Road West\, Suite 900\, Mississauga\, ON \nRegistration\nRSVP Required\nTo attend\, please register in advance by emailing contactus@croat.ca \nThis event is ideal for Canadian entrepreneurs\, executives\, investors\, and professionals who are exploring international expansion\, EU market entry\, or investment opportunities connected to Croatia. \nWe look forward to welcoming you for an informative and engaging evening of insight\, networking\, and opportunity.
URL:https://croat.ca/event/investing-in-croatia-expanding-into-the-european-union/
CATEGORIES:CROAT
END:VEVENT
END:VCALENDAR