BEGIN:VCALENDAR
VERSION:2.0
PRODID:-//Croatian Chamber of Commerce - ECPv6.10.1.1//NONSGML v1.0//EN
CALSCALE:GREGORIAN
METHOD:PUBLISH
X-WR-CALNAME:Croatian Chamber of Commerce
X-ORIGINAL-URL:https://croat.ca
X-WR-CALDESC:Events for Croatian Chamber of Commerce
REFRESH-INTERVAL;VALUE=DURATION:PT1H
X-Robots-Tag:noindex
X-PUBLISHED-TTL:PT1H
BEGIN:VTIMEZONE
TZID:America/Toronto
BEGIN:DAYLIGHT
TZOFFSETFROM:-0500
TZOFFSETTO:-0400
TZNAME:EDT
DTSTART:20250309T070000
END:DAYLIGHT
BEGIN:STANDARD
TZOFFSETFROM:-0400
TZOFFSETTO:-0500
TZNAME:EST
DTSTART:20251102T060000
END:STANDARD
END:VTIMEZONE
BEGIN:VEVENT
DTSTART;TZID=America/Toronto:20251204T150000
DTEND;TZID=America/Toronto:20251204T160000
DTSTAMP:20260424T111315
CREATED:20251114T184449Z
LAST-MODIFIED:20251118T025624Z
UID:19465-1764860400-1764864000@croat.ca
SUMMARY:Croatian Women’s Alliance Online Event
DESCRIPTION:The Chamber is excited to collaborate with the CROATIAN WOMEN’S ALLIANCE (CWA)\, whose goal is to connect and unite female leaders of Croatian networking associations across the globe into one powerful voice and to create a platform for future generations of leaders. \nWe have gathered a strong founding circle of associations from different parts of the world including; Sydney\, New York\, Toronto\, Zurich and Buenos Aires\, just to name a few\, where the Croatian diaspora have already created strong networks\, businesses\, political positions and societies\, while continuously nurturing respect toward their Croatian roots\, history and heritage\, and always aiming to maintain connections to the homeland – Croatia. \nPlease join us for a special online event on December 4\, 2025 \nFeaturing Global Women. Creative Voices. Connected Through Art\, Fashion\, and Heritage. \nCHECK YOUR TIME ZONE IN THE LINK \nReserve your FREE ticket HERE
URL:https://croat.ca/event/croatian-womens-alliance-online-event-7/
LOCATION:ONLINE EVENT
CATEGORIES:CROAT
END:VEVENT
END:VCALENDAR