BEGIN:VCALENDAR
VERSION:2.0
PRODID:-//Croatian Chamber of Commerce - ECPv6.10.1.1//NONSGML v1.0//EN
CALSCALE:GREGORIAN
METHOD:PUBLISH
X-WR-CALNAME:Croatian Chamber of Commerce
X-ORIGINAL-URL:https://croat.ca
X-WR-CALDESC:Events for Croatian Chamber of Commerce
REFRESH-INTERVAL;VALUE=DURATION:PT1H
X-Robots-Tag:noindex
X-PUBLISHED-TTL:PT1H
BEGIN:VTIMEZONE
TZID:America/Toronto
BEGIN:DAYLIGHT
TZOFFSETFROM:-0500
TZOFFSETTO:-0400
TZNAME:EDT
DTSTART:20250309T070000
END:DAYLIGHT
BEGIN:STANDARD
TZOFFSETFROM:-0400
TZOFFSETTO:-0500
TZNAME:EST
DTSTART:20251102T060000
END:STANDARD
END:VTIMEZONE
BEGIN:VEVENT
DTSTART;TZID=America/Toronto:20251119T180000
DTEND;TZID=America/Toronto:20251119T223000
DTSTAMP:20260424T125220
CREATED:20251114T183055Z
LAST-MODIFIED:20251119T030900Z
UID:19459-1763575200-1763591400@croat.ca
SUMMARY:Film Screening DIVA
DESCRIPTION:Join us for a special film screening of DIVA\, a powerful Croatian film by Branko Perić\, on Wednesday\, November 19\, 2025\, at Queen of Peace – Norval (Main Hall). \nFollowing its international showcase at the 2025 Cannes Film Festival\, where it was featured as part of the prestigious Marché du Film\, DIVA has captivated audiences. \nThis moving historical drama tells the story of a young woman whose unwavering courage and faith defied an empire. Set against breathtaking landscapes\, DIVA captures the strength of one woman’s spirit – a spirit that continues to inspire generations long after her time. \nMeet DIVA filmmaker Branko Perić and actress Diva Marija Perković (daughter of our very own Croatian-Canadian\, Sandra Perković) following the Film Screening – hear firsthand what inspired this powerful story. \nTickets: $20Your ticket includes Hercegovački appetizers\, and a cash bar will be available. \n6:00 pm – Doors Open\n7:00 pm – Film Screening \nThis event is more than a film night – it’s an opportunity for our community and youth to be inspired by a story of conviction\, resilience\, and hope. DIVA reminds us that even in the face of overwhelming odds\, one person’s courage can echo across time. \nLocation:Queen of Peace – Norval (Main Hall)9118 Winston Churchill Boulevard\, Norval\, Ontario \nPurchase tickets via credit card HERE \nBuying tickets for friends or family?\nYou will receive one QR code that covers all tickets in your order.  Please plan to arrive together so we can check in your group smoothly. \nPre-purchasing tickets is highly recommended. \nTickets may also be purchased at the door. \nLearn more about DIVA
URL:https://croat.ca/event/film-screening-diva/
LOCATION:Queen of Peace – Croatian Franciscan Centre\, 9118 Winston Churchill Blvd\, Norval\, Ontario\, L0P 1K0\, Canada
CATEGORIES:CROAT
END:VEVENT
BEGIN:VEVENT
DTSTART;TZID=America/Toronto:20251130T123000
DTEND;TZID=America/Toronto:20251130T163000
DTSTAMP:20260424T125220
CREATED:20251001T014046Z
LAST-MODIFIED:20251001T014046Z
UID:19363-1764505800-1764520200@croat.ca
SUMMARY:Croatian Christmas Market and Candy Cane Hunt
DESCRIPTION:The Canadian-Croatian Chamber of Commerce\, Consulate General of the Republic of Croatia in Mississauga and Croatian Sports and Community Centre of Hamilton invite all members of the Croatian community to our Croatian Christmas Market and Candy Cane Hunt (Hrvatski Božić 2025)! \nPlease join in with your family and friends to celebrate in the spirit of Christmas with a candy cane hunt\, crafts\, caroling\, food\, drink\, vendors and a special surprise visitor the children are sure to enjoy. \nShop for the perfect Christmas gifts in a festive and relaxed atmosphere! \nAdmission is free\, proudly sponsored by the Canadian-Croatian Chamber of Commerce in collaboration with the Consulate General of the Republic of Croatia and the Croatian Sports and Community Centre of Hamilton. \nDATE & TIME \nSunday\, November 30\, 2025 | 12:30 pm – 4:30 pm\nCroatian Sports and Community Centre of Hamilton\, Inc.\n166 Green Mountain Rd E\, Stoney Creek\, ON L8J 3A4 \nVENDORS \nInterested in showcasing your products at the Christmas Market? \nContact Wanita Kelava at contactus@croat.ca to reserve your spot. \nTables and table placement will be reserved on a first-come\, first-serve basis. \nVendor Table Fees: \nChamber Members: Free!\nNon-members: $150 \nJoin as a member for $100 and receive your vendor table at no charge!
URL:https://croat.ca/event/croatian-christmas-market-and-candy-cane-hunt-4/
LOCATION:Croatian Sports and Community Centre of Hamilton\, Inc.\, 166 Green Mountain Rd E\, Stoney Creek\, Ontario\, L8J 3A4\, Canada
CATEGORIES:CROAT
END:VEVENT
END:VCALENDAR